BEGIN:VCALENDAR
VERSION:2.0
PRODID:icalendar-ruby
CALSCALE:GREGORIAN
METHOD:PUBLISH
BEGIN:VEVENT
DTSTAMP:20260422T142227Z
UID:16-1055928@c4impact.org
DTSTART:20261029T233000Z
DTEND:20261030T010000Z
CLASS:PUBLIC
CREATED:20260422T075902
DESCRIPTION:
LAST-MODIFIED:20260422T075902
LOCATION:Online
SUMMARY:Zoom Prayer Meeting
URL;VALUE=URI:https://c4impact.org/events/zoom-prayer-meeting/2026-10-29
END:VEVENT
END:VCALENDAR
