BEGIN:VCALENDAR
VERSION:2.0
PRODID:icalendar-ruby
CALSCALE:GREGORIAN
METHOD:PUBLISH
BEGIN:VEVENT
DTSTAMP:20260424T085606Z
UID:16-1061718@c4impact.org
DTSTART:20261008T233000Z
DTEND:20261009T010000Z
CLASS:PUBLIC
CREATED:20260423T223209
DESCRIPTION:
LAST-MODIFIED:20260423T223209
LOCATION:Online
SUMMARY:Zoom Prayer Meeting
URL;VALUE=URI:https://c4impact.org/events/zoom-prayer-meeting/2026-10-08
END:VEVENT
END:VCALENDAR
