BEGIN:VCALENDAR
VERSION:2.0
PRODID:icalendar-ruby
CALSCALE:GREGORIAN
METHOD:PUBLISH
BEGIN:VEVENT
DTSTAMP:20260422T022115Z
UID:16-1055395@c4impact.org
DTSTART:20260910T233000Z
DTEND:20260911T010000Z
CLASS:PUBLIC
CREATED:20260421T205444
DESCRIPTION:
LAST-MODIFIED:20260421T205444
LOCATION:Online
SUMMARY:Zoom Prayer Meeting
URL;VALUE=URI:https://c4impact.org/events/zoom-prayer-meeting/2026-09-10
END:VEVENT
END:VCALENDAR
