BEGIN:VCALENDAR
VERSION:2.0
PRODID:icalendar-ruby
CALSCALE:GREGORIAN
METHOD:PUBLISH
BEGIN:VEVENT
DTSTAMP:20260422T003212Z
UID:16-1054868@c4impact.org
DTSTART:20260903T233000Z
DTEND:20260904T010000Z
CLASS:PUBLIC
CREATED:20260421T181605
DESCRIPTION:
LAST-MODIFIED:20260421T181605
LOCATION:Online
SUMMARY:Zoom Prayer Meeting
URL;VALUE=URI:https://c4impact.org/events/zoom-prayer-meeting/2026-09-03
END:VEVENT
END:VCALENDAR
