BEGIN:VCALENDAR
VERSION:2.0
PRODID:icalendar-ruby
CALSCALE:GREGORIAN
METHOD:PUBLISH
BEGIN:VEVENT
DTSTAMP:20260421T224815Z
UID:16-1054867@c4impact.org
DTSTART:20260827T233000Z
DTEND:20260828T010000Z
CLASS:PUBLIC
CREATED:20260421T181605
DESCRIPTION:
LAST-MODIFIED:20260421T181605
LOCATION:Online
SUMMARY:Zoom Prayer Meeting
URL;VALUE=URI:https://c4impact.org/events/zoom-prayer-meeting/2026-08-27
END:VEVENT
END:VCALENDAR
