BEGIN:VCALENDAR
VERSION:2.0
PRODID:icalendar-ruby
CALSCALE:GREGORIAN
METHOD:PUBLISH
BEGIN:VEVENT
DTSTAMP:20260421T211048Z
UID:16-1054340@c4impact.org
DTSTART:20260820T233000Z
DTEND:20260821T010000Z
CLASS:PUBLIC
CREATED:20260421T153821
DESCRIPTION:
LAST-MODIFIED:20260421T153821
LOCATION:Online
SUMMARY:Zoom Prayer Meeting
URL;VALUE=URI:https://c4impact.org/events/zoom-prayer-meeting/2026-08-20
END:VEVENT
END:VCALENDAR
