BEGIN:VCALENDAR
VERSION:2.0
PRODID:icalendar-ruby
CALSCALE:GREGORIAN
METHOD:PUBLISH
BEGIN:VEVENT
DTSTAMP:20260421T173707Z
UID:16-1053812@c4impact.org
DTSTART:20260806T233000Z
DTEND:20260807T010000Z
CLASS:PUBLIC
CREATED:20260421T130137
DESCRIPTION:
LAST-MODIFIED:20260421T130137
LOCATION:Online
SUMMARY:Zoom Prayer Meeting
URL;VALUE=URI:https://c4impact.org/events/zoom-prayer-meeting/2026-08-06
END:VEVENT
END:VCALENDAR
