BEGIN:VCALENDAR
VERSION:2.0
PRODID:icalendar-ruby
CALSCALE:GREGORIAN
METHOD:PUBLISH
BEGIN:VEVENT
DTSTAMP:20260421T143018Z
UID:16-1053284@c4impact.org
DTSTART:20260723T233000Z
DTEND:20260724T010000Z
CLASS:PUBLIC
CREATED:20260421T102226
DESCRIPTION:
LAST-MODIFIED:20260421T102226
LOCATION:Online
SUMMARY:Zoom Prayer Meeting
URL;VALUE=URI:https://c4impact.org/events/zoom-prayer-meeting/2026-07-23
END:VEVENT
END:VCALENDAR
