BEGIN:VCALENDAR
VERSION:2.0
PRODID:icalendar-ruby
CALSCALE:GREGORIAN
METHOD:PUBLISH
BEGIN:VEVENT
DTSTAMP:20260421T113106Z
UID:16-1052230@c4impact.org
DTSTART:20260709T233000Z
DTEND:20260710T010000Z
CLASS:PUBLIC
CREATED:20260420T204017
DESCRIPTION:
LAST-MODIFIED:20260420T204017
LOCATION:Online
SUMMARY:Zoom Prayer Meeting
URL;VALUE=URI:https://c4impact.org/events/zoom-prayer-meeting/2026-07-09
END:VEVENT
END:VCALENDAR
