BEGIN:VCALENDAR
VERSION:2.0
PRODID:icalendar-ruby
CALSCALE:GREGORIAN
METHOD:PUBLISH
BEGIN:VEVENT
DTSTAMP:20260424T153506Z
UID:19-1062936@c4impact.org
DTSTART:20261101T190000Z
DTEND:20261101T203000Z
CLASS:PUBLIC
CREATED:20260424T105343
DESCRIPTION:
LAST-MODIFIED:20260424T105343
LOCATION:Lilburn\, GA
SUMMARY:Lilburn Meeting
URL;VALUE=URI:https://c4impact.org/events/lilburn-meeting/2026-11-01
END:VEVENT
END:VCALENDAR
