BEGIN:VCALENDAR
VERSION:2.0
PRODID:icalendar-ruby
CALSCALE:GREGORIAN
METHOD:PUBLISH
BEGIN:VEVENT
DTSTAMP:20260424T120522Z
UID:19-1062406@c4impact.org
DTSTART:20261018T180000Z
DTEND:20261018T193000Z
CLASS:PUBLIC
CREATED:20260424T080034
DESCRIPTION:
LAST-MODIFIED:20260424T080034
LOCATION:Lilburn\, GA
SUMMARY:Lilburn Meeting
URL;VALUE=URI:https://c4impact.org/events/lilburn-meeting/2026-10-18
END:VEVENT
END:VCALENDAR
