BEGIN:VCALENDAR
VERSION:2.0
PRODID:icalendar-ruby
CALSCALE:GREGORIAN
METHOD:PUBLISH
BEGIN:VEVENT
DTSTAMP:20260422T120106Z
UID:19-1056082@c4impact.org
DTSTART:20261004T180000Z
DTEND:20261004T193000Z
CLASS:PUBLIC
CREATED:20260422T075903
DESCRIPTION:
LAST-MODIFIED:20260422T075903
LOCATION:Lilburn\, GA
SUMMARY:Lilburn Meeting
URL;VALUE=URI:https://c4impact.org/events/lilburn-meeting/2026-10-04
END:VEVENT
END:VCALENDAR
