BEGIN:VCALENDAR
VERSION:2.0
PRODID:icalendar-ruby
CALSCALE:GREGORIAN
METHOD:PUBLISH
BEGIN:VEVENT
DTSTAMP:20260422T103251Z
UID:19-1055555@c4impact.org
DTSTART:20260927T180000Z
DTEND:20260927T193000Z
CLASS:PUBLIC
CREATED:20260421T205444
DESCRIPTION:
LAST-MODIFIED:20260421T205444
LOCATION:Lilburn\, GA
SUMMARY:Lilburn Meeting
URL;VALUE=URI:https://c4impact.org/events/lilburn-meeting/2026-09-27
END:VEVENT
END:VCALENDAR
