BEGIN:VCALENDAR
VERSION:2.0
PRODID:icalendar-ruby
CALSCALE:GREGORIAN
METHOD:PUBLISH
BEGIN:VEVENT
DTSTAMP:20260422T084019Z
UID:19-1055554@c4impact.org
DTSTART:20260920T180000Z
DTEND:20260920T193000Z
CLASS:PUBLIC
CREATED:20260421T205444
DESCRIPTION:
LAST-MODIFIED:20260421T205444
LOCATION:Lilburn\, GA
SUMMARY:Lilburn Meeting
URL;VALUE=URI:https://c4impact.org/events/lilburn-meeting/2026-09-20
END:VEVENT
END:VCALENDAR
