BEGIN:VCALENDAR
VERSION:2.0
PRODID:icalendar-ruby
CALSCALE:GREGORIAN
METHOD:PUBLISH
BEGIN:VEVENT
DTSTAMP:20260420T080031Z
UID:19-1049241@c4impact.org
DTSTART:20260913T180000Z
DTEND:20260913T193000Z
CLASS:PUBLIC
CREATED:20260420T025444
DESCRIPTION:
LAST-MODIFIED:20260420T025444
LOCATION:Lilburn\, GA
SUMMARY:Lilburn Meeting
URL;VALUE=URI:https://c4impact.org/events/lilburn-meeting/2026-09-13
END:VEVENT
END:VCALENDAR
