BEGIN:VCALENDAR
VERSION:2.0
PRODID:icalendar-ruby
CALSCALE:GREGORIAN
METHOD:PUBLISH
BEGIN:VEVENT
DTSTAMP:20260420T061659Z
UID:19-1048714@c4impact.org
DTSTART:20260906T180000Z
DTEND:20260906T193000Z
CLASS:PUBLIC
CREATED:20260419T231746
DESCRIPTION:
LAST-MODIFIED:20260419T231746
LOCATION:Lilburn\, GA
SUMMARY:Lilburn Meeting
URL;VALUE=URI:https://c4impact.org/events/lilburn-meeting/2026-09-06
END:VEVENT
END:VCALENDAR
