BEGIN:VCALENDAR
VERSION:2.0
PRODID:icalendar-ruby
CALSCALE:GREGORIAN
METHOD:PUBLISH
BEGIN:VEVENT
DTSTAMP:20260422T133930Z
UID:13-1055768@c4impact.org
DTSTART:20261024T140000Z
DTEND:20261024T153000Z
CLASS:PUBLIC
CREATED:20260422T075902
DESCRIPTION:
LAST-MODIFIED:20260422T075902
LOCATION:Decatur\, GA
SUMMARY:Decatur Fellowship + Outreach
URL;VALUE=URI:https://c4impact.org/events/decatur-fellowship-outreach/2026-
 10-24
END:VEVENT
END:VCALENDAR
