BEGIN:VCALENDAR
VERSION:2.0
PRODID:icalendar-ruby
CALSCALE:GREGORIAN
METHOD:PUBLISH
BEGIN:VEVENT
DTSTAMP:20260422T103245Z
UID:13-1055240@c4impact.org
DTSTART:20261010T140000Z
DTEND:20261010T153000Z
CLASS:PUBLIC
CREATED:20260421T205444
DESCRIPTION:
LAST-MODIFIED:20260421T205444
LOCATION:Decatur\, GA
SUMMARY:Decatur Fellowship + Outreach
URL;VALUE=URI:https://c4impact.org/events/decatur-fellowship-outreach/2026-
 10-10
END:VEVENT
END:VCALENDAR
