BEGIN:VCALENDAR
VERSION:2.0
PRODID:icalendar-ruby
CALSCALE:GREGORIAN
METHOD:PUBLISH
BEGIN:VEVENT
DTSTAMP:20260420T042533Z
UID:13-1048398@c4impact.org
DTSTART:20260912T140000Z
DTEND:20260912T153000Z
CLASS:PUBLIC
CREATED:20260419T231745
DESCRIPTION:
LAST-MODIFIED:20260419T231745
LOCATION:Decatur\, GA
SUMMARY:Decatur Fellowship + Outreach
URL;VALUE=URI:https://c4impact.org/events/decatur-fellowship-outreach/2026-
 09-12
END:VEVENT
END:VCALENDAR
