BEGIN:VCALENDAR
VERSION:2.0
PRODID:icalendar-ruby
CALSCALE:GREGORIAN
METHOD:PUBLISH
BEGIN:VEVENT
DTSTAMP:20260420T023908Z
UID:13-1047871@c4impact.org
DTSTART:20260905T140000Z
DTEND:20260905T153000Z
CLASS:PUBLIC
CREATED:20260419T193933
DESCRIPTION:
LAST-MODIFIED:20260419T193933
LOCATION:Decatur\, GA
SUMMARY:Decatur Fellowship + Outreach
URL;VALUE=URI:https://c4impact.org/events/decatur-fellowship-outreach/2026-
 09-05
END:VEVENT
END:VCALENDAR
