BEGIN:VCALENDAR
VERSION:2.0
PRODID:icalendar-ruby
CALSCALE:GREGORIAN
METHOD:PUBLISH
BEGIN:VEVENT
DTSTAMP:20260422T124446Z
UID:48-1056137@c4impact.org
DTSTART:20261028T210000Z
DTEND:20261028T220000Z
CLASS:PUBLIC
CREATED:20260422T075903
DESCRIPTION:Aiken Bible Study
LAST-MODIFIED:20260422T075903
LOCATION:316 Greenville St NW #3
SUMMARY:Aiken Bible Study
URL;VALUE=URI:https://c4impact.org/events/aiken-bible-study/2026-10-28
END:VEVENT
END:VCALENDAR
