BEGIN:VCALENDAR
VERSION:2.0
PRODID:icalendar-ruby
CALSCALE:GREGORIAN
METHOD:PUBLISH
BEGIN:VEVENT
DTSTAMP:20260422T084550Z
UID:48-1055609@c4impact.org
DTSTART:20261014T210000Z
DTEND:20261014T220000Z
CLASS:PUBLIC
CREATED:20260421T205444
DESCRIPTION:Aiken Bible Study
LAST-MODIFIED:20260421T205444
LOCATION:316 Greenville St NW #3
SUMMARY:Aiken Bible Study
URL;VALUE=URI:https://c4impact.org/events/aiken-bible-study/2026-10-14
END:VEVENT
END:VCALENDAR
