BEGIN:VCALENDAR
VERSION:2.0
PRODID:icalendar-ruby
CALSCALE:GREGORIAN
METHOD:PUBLISH
BEGIN:VEVENT
DTSTAMP:20260420T062334Z
UID:48-1048769@c4impact.org
DTSTART:20260930T210000Z
DTEND:20260930T220000Z
CLASS:PUBLIC
CREATED:20260419T231746
DESCRIPTION:Aiken Bible Study
LAST-MODIFIED:20260419T231746
LOCATION:316 Greenville St NW #3
SUMMARY:Aiken Bible Study
URL;VALUE=URI:https://c4impact.org/events/aiken-bible-study/2026-09-30
END:VEVENT
END:VCALENDAR
