BEGIN:VCALENDAR
VERSION:2.0
PRODID:icalendar-ruby
CALSCALE:GREGORIAN
METHOD:PUBLISH
BEGIN:VEVENT
DTSTAMP:20260420T030511Z
UID:48-1048241@c4impact.org
DTSTART:20260916T210000Z
DTEND:20260916T220000Z
CLASS:PUBLIC
CREATED:20260419T193934
DESCRIPTION:Aiken Bible Study
LAST-MODIFIED:20260419T193934
LOCATION:316 Greenville St NW #3
SUMMARY:Aiken Bible Study
URL;VALUE=URI:https://c4impact.org/events/aiken-bible-study/2026-09-16
END:VEVENT
END:VCALENDAR
