BEGIN:VCALENDAR
VERSION:2.0
PRODID:icalendar-ruby
CALSCALE:GREGORIAN
METHOD:PUBLISH
BEGIN:VEVENT
DTSTAMP:20260419T232139Z
UID:48-1047713@c4impact.org
DTSTART:20260902T210000Z
DTEND:20260902T220000Z
CLASS:PUBLIC
CREATED:20260419T155656
DESCRIPTION:Aiken Bible Study
LAST-MODIFIED:20260419T155656
LOCATION:316 Greenville St NW #3
SUMMARY:Aiken Bible Study
URL;VALUE=URI:https://c4impact.org/events/aiken-bible-study/2026-09-02
END:VEVENT
END:VCALENDAR
