BEGIN:VCALENDAR
VERSION:2.0
PRODID:icalendar-ruby
CALSCALE:GREGORIAN
METHOD:PUBLISH
BEGIN:VEVENT
DTSTAMP:20260419T213722Z
UID:48-1047712@c4impact.org
DTSTART:20260826T210000Z
DTEND:20260826T220000Z
CLASS:PUBLIC
CREATED:20260419T155656
DESCRIPTION:Aiken Bible Study
LAST-MODIFIED:20260419T155656
LOCATION:316 Greenville St NW #3
SUMMARY:Aiken Bible Study
URL;VALUE=URI:https://c4impact.org/events/aiken-bible-study/2026-08-26
END:VEVENT
END:VCALENDAR
