BEGIN:VCALENDAR
VERSION:2.0
PRODID:icalendar-ruby
CALSCALE:GREGORIAN
METHOD:PUBLISH
BEGIN:VEVENT
DTSTAMP:20260419T145942Z
UID:48-1046657@c4impact.org
DTSTART:20260729T210000Z
DTEND:20260729T220000Z
CLASS:PUBLIC
CREATED:20260419T083239
DESCRIPTION:Aiken Bible Study
LAST-MODIFIED:20260419T083239
LOCATION:316 Greenville St NW #3
SUMMARY:Aiken Bible Study
URL;VALUE=URI:https://c4impact.org/events/aiken-bible-study/2026-07-29
END:VEVENT
END:VCALENDAR
